BEGIN:VCALENDAR
VERSION:2.0
PRODID:-//Thames Valley Skiff Club - ECPv6.15.18//NONSGML v1.0//EN
CALSCALE:GREGORIAN
METHOD:PUBLISH
X-ORIGINAL-URL:https://tvsc.co.uk
X-WR-CALDESC:Events for Thames Valley Skiff Club
REFRESH-INTERVAL;VALUE=DURATION:PT1H
X-Robots-Tag:noindex
X-PUBLISHED-TTL:PT1H
BEGIN:VTIMEZONE
TZID:Europe/London
BEGIN:DAYLIGHT
TZOFFSETFROM:+0000
TZOFFSETTO:+0100
TZNAME:BST
DTSTART:20250330T010000
END:DAYLIGHT
BEGIN:STANDARD
TZOFFSETFROM:+0100
TZOFFSETTO:+0000
TZNAME:GMT
DTSTART:20251026T010000
END:STANDARD
BEGIN:DAYLIGHT
TZOFFSETFROM:+0000
TZOFFSETTO:+0100
TZNAME:BST
DTSTART:20260329T010000
END:DAYLIGHT
BEGIN:STANDARD
TZOFFSETFROM:+0100
TZOFFSETTO:+0000
TZNAME:GMT
DTSTART:20261025T010000
END:STANDARD
BEGIN:DAYLIGHT
TZOFFSETFROM:+0000
TZOFFSETTO:+0100
TZNAME:BST
DTSTART:20270328T010000
END:DAYLIGHT
BEGIN:STANDARD
TZOFFSETFROM:+0100
TZOFFSETTO:+0000
TZNAME:GMT
DTSTART:20271031T010000
END:STANDARD
END:VTIMEZONE
BEGIN:VEVENT
DTSTART;TZID=Europe/London:20260411T183000
DTEND;TZID=Europe/London:20260411T223000
DTSTAMP:20260421T210220
CREATED:20260211T213526Z
LAST-MODIFIED:20260211T213526Z
UID:3664-1775932200-1775946600@tvsc.co.uk
SUMMARY:Mexican-themed Games Night
DESCRIPTION:Mexican-themed Games Night
URL:https://tvsc.co.uk/event/mexican-themed-games-night/
LOCATION:TVSC
CATEGORIES:Social
END:VEVENT
BEGIN:VEVENT
DTSTART;TZID=Europe/London:20260321T183000
DTEND;TZID=Europe/London:20260321T223000
DTSTAMP:20260421T210220
CREATED:20260211T212321Z
LAST-MODIFIED:20260211T220837Z
UID:3655-1774117800-1774132200@tvsc.co.uk
SUMMARY:Art Attack
DESCRIPTION:Art Attack with Robin-Lee Hall\, PPRP
URL:https://tvsc.co.uk/event/art-attack/
LOCATION:TVSC
CATEGORIES:Social
END:VEVENT
BEGIN:VEVENT
DTSTART;TZID=Europe/London:20260228T190000
DTEND;TZID=Europe/London:20260228T223000
DTSTAMP:20260421T210220
CREATED:20260211T190915Z
LAST-MODIFIED:20260211T213228Z
UID:3643-1772305200-1772317800@tvsc.co.uk
SUMMARY:Bingo Night
DESCRIPTION:Bingo Night\, with cash prizes! \nCorrection to tel number below: 07932 526 408\n \n  \n 
URL:https://tvsc.co.uk/event/bingo-night/
CATEGORIES:Social
END:VEVENT
BEGIN:VEVENT
DTSTART;TZID=Europe/London:20260124T190000
DTEND;TZID=Europe/London:20260124T230000
DTSTAMP:20260421T210220
CREATED:20260112T161502Z
LAST-MODIFIED:20260112T161820Z
UID:3611-1769281200-1769295600@tvsc.co.uk
SUMMARY:Sausage Fest
DESCRIPTION: 
URL:https://tvsc.co.uk/event/sausage-fest/
LOCATION:TVSC
CATEGORIES:Social
END:VEVENT
END:VCALENDAR