BEGIN:VCALENDAR
VERSION:2.0
PRODID:-//Thames Valley Skiff Club - ECPv6.15.18//NONSGML v1.0//EN
CALSCALE:GREGORIAN
METHOD:PUBLISH
X-ORIGINAL-URL:https://tvsc.co.uk
X-WR-CALDESC:Events for Thames Valley Skiff Club
REFRESH-INTERVAL;VALUE=DURATION:PT1H
X-Robots-Tag:noindex
X-PUBLISHED-TTL:PT1H
BEGIN:VTIMEZONE
TZID:Europe/London
BEGIN:DAYLIGHT
TZOFFSETFROM:+0000
TZOFFSETTO:+0100
TZNAME:BST
DTSTART:20250330T010000
END:DAYLIGHT
BEGIN:STANDARD
TZOFFSETFROM:+0100
TZOFFSETTO:+0000
TZNAME:GMT
DTSTART:20251026T010000
END:STANDARD
BEGIN:DAYLIGHT
TZOFFSETFROM:+0000
TZOFFSETTO:+0100
TZNAME:BST
DTSTART:20260329T010000
END:DAYLIGHT
BEGIN:STANDARD
TZOFFSETFROM:+0100
TZOFFSETTO:+0000
TZNAME:GMT
DTSTART:20261025T010000
END:STANDARD
BEGIN:DAYLIGHT
TZOFFSETFROM:+0000
TZOFFSETTO:+0100
TZNAME:BST
DTSTART:20270328T010000
END:DAYLIGHT
BEGIN:STANDARD
TZOFFSETFROM:+0100
TZOFFSETTO:+0000
TZNAME:GMT
DTSTART:20271031T010000
END:STANDARD
END:VTIMEZONE
BEGIN:VEVENT
DTSTART;VALUE=DATE:20260725
DTEND;VALUE=DATE:20260726
DTSTAMP:20260423T004413
CREATED:20260105T174856Z
LAST-MODIFIED:20260105T174856Z
UID:3560-1784937600-1785023999@tvsc.co.uk
SUMMARY:Chertsey & Shepperton Regatta
DESCRIPTION: 
URL:https://tvsc.co.uk/event/chertsey-shepperton-regatta/
LOCATION:Dumsey Meadow\, by Chertsey Bridge
CATEGORIES:Sprint Regatta
END:VEVENT
BEGIN:VEVENT
DTSTART;TZID=Europe/London:20260807T080000
DTEND;TZID=Europe/London:20260808T170000
DTSTAMP:20260423T004413
CREATED:20260105T175221Z
LAST-MODIFIED:20260105T175720Z
UID:3564-1786089600-1786208400@tvsc.co.uk
SUMMARY:Wargrave & Shiplake Regatta (Fri-Sat)
DESCRIPTION: 
URL:https://tvsc.co.uk/event/wargrave-shiplake-regatta/
LOCATION:Wargrave Boating Club
CATEGORIES:Multi-discipline Town Regatta
END:VEVENT
BEGIN:VEVENT
DTSTART;VALUE=DATE:20260808
DTEND;VALUE=DATE:20260809
DTSTAMP:20260423T004413
CREATED:20260105T175442Z
LAST-MODIFIED:20260105T175442Z
UID:3567-1786147200-1786233599@tvsc.co.uk
SUMMARY:Wraysbury & Old Windsor Regatta
DESCRIPTION: 
URL:https://tvsc.co.uk/event/wraysbury-old-windsor-regatta/
LOCATION:Wraysbury S&PC
CATEGORIES:Sprint Regatta
END:VEVENT
BEGIN:VEVENT
DTSTART;VALUE=DATE:20260815
DTEND;VALUE=DATE:20260816
DTSTAMP:20260423T004413
CREATED:20260105T180052Z
LAST-MODIFIED:20260105T180052Z
UID:3575-1786752000-1786838399@tvsc.co.uk
SUMMARY:Sunbury Regatta
DESCRIPTION: 
URL:https://tvsc.co.uk/event/sunbury-regatta/
LOCATION:SSPC Shepperton
CATEGORIES:Sprint Regatta
END:VEVENT
BEGIN:VEVENT
DTSTART;VALUE=DATE:20260816
DTEND;VALUE=DATE:20260817
DTSTAMP:20260423T004413
CREATED:20260105T180154Z
LAST-MODIFIED:20260105T180154Z
UID:3577-1786838400-1786924799@tvsc.co.uk
SUMMARY:Sunbury Junior Regatta
DESCRIPTION: 
URL:https://tvsc.co.uk/event/sunbury-junior-regatta/
LOCATION:SSPC Shepperton
CATEGORIES:Sprint Regatta
END:VEVENT
BEGIN:VEVENT
DTSTART;VALUE=DATE:20260822
DTEND;VALUE=DATE:20260823
DTSTAMP:20260423T004413
CREATED:20260105T180307Z
LAST-MODIFIED:20260105T180307Z
UID:3579-1787356800-1787443199@tvsc.co.uk
SUMMARY:Walton Reach Regatta
DESCRIPTION: 
URL:https://tvsc.co.uk/event/walton-reach-regatta/
LOCATION:TVSC
CATEGORIES:Sprint Regatta
END:VEVENT
BEGIN:VEVENT
DTSTART;VALUE=DATE:20260829
DTEND;VALUE=DATE:20260830
DTSTAMP:20260423T004413
CREATED:20260105T175905Z
LAST-MODIFIED:20260110T180932Z
UID:3572-1787961600-1788047999@tvsc.co.uk
SUMMARY:Punting Championships
DESCRIPTION: 
URL:https://tvsc.co.uk/event/punting-championships/
LOCATION:TVSC
CATEGORIES:Punting
END:VEVENT
BEGIN:VEVENT
DTSTART;VALUE=DATE:20260830
DTEND;VALUE=DATE:20260831
DTSTAMP:20260423T004413
CREATED:20260105T180424Z
LAST-MODIFIED:20260105T180532Z
UID:3582-1788048000-1788134399@tvsc.co.uk
SUMMARY:TRR & Skiff Champs
DESCRIPTION: 
URL:https://tvsc.co.uk/event/trr-skiff-champs/
LOCATION:Henley
CATEGORIES:Sprint Regatta
END:VEVENT
BEGIN:VEVENT
DTSTART;VALUE=DATE:20260905
DTEND;VALUE=DATE:20260906
DTSTAMP:20260423T004413
CREATED:20260105T180658Z
LAST-MODIFIED:20260105T180658Z
UID:3586-1788566400-1788652799@tvsc.co.uk
SUMMARY:Skiff Club Regatta
DESCRIPTION: 
URL:https://tvsc.co.uk/event/skiff-club-regatta/
LOCATION:Skiff Club
CATEGORIES:Sprint Regatta
END:VEVENT
BEGIN:VEVENT
DTSTART;VALUE=DATE:20260912
DTEND;VALUE=DATE:20260913
DTSTAMP:20260423T004413
CREATED:20260105T180940Z
LAST-MODIFIED:20260105T180940Z
UID:3589-1789171200-1789257599@tvsc.co.uk
SUMMARY:The Great River Race
DESCRIPTION: 
URL:https://tvsc.co.uk/event/the-great-river-race/
LOCATION:Limehouse to Richmond
CATEGORIES:Long Distance
END:VEVENT
BEGIN:VEVENT
DTSTART;VALUE=DATE:20260919
DTEND;VALUE=DATE:20260920
DTSTAMP:20260423T004413
CREATED:20260105T181119Z
LAST-MODIFIED:20260105T181119Z
UID:3592-1789776000-1789862399@tvsc.co.uk
SUMMARY:DSPC Regatta
DESCRIPTION: 
URL:https://tvsc.co.uk/event/dspc-regatta/
LOCATION:DSPC\, Thames Ditton\, KT7 0QH
CATEGORIES:Sprint Regatta
END:VEVENT
BEGIN:VEVENT
DTSTART;VALUE=DATE:20260920
DTEND;VALUE=DATE:20260921
DTSTAMP:20260423T004413
CREATED:20260105T181236Z
LAST-MODIFIED:20260105T181401Z
UID:3594-1789862400-1789948799@tvsc.co.uk
SUMMARY:Inter-club Races\, TVSC
DESCRIPTION: 
URL:https://tvsc.co.uk/event/inter-club-races/
LOCATION:TVSC
CATEGORIES:Sprint Regatta
END:VEVENT
BEGIN:VEVENT
DTSTART;VALUE=DATE:20260926
DTEND;VALUE=DATE:20260927
DTSTAMP:20260423T004413
CREATED:20260105T181510Z
LAST-MODIFIED:20260105T181510Z
UID:3598-1790380800-1790467199@tvsc.co.uk
SUMMARY:Wraysbury S&PC Regatta
DESCRIPTION: 
URL:https://tvsc.co.uk/event/wraysbury-spc-regatta/
LOCATION:Wraysbury S&PC
CATEGORIES:Sprint Regatta
END:VEVENT
BEGIN:VEVENT
DTSTART;TZID=Europe/London:20260927T120000
DTEND;TZID=Europe/London:20260927T143000
DTSTAMP:20260423T004413
CREATED:20260211T214251Z
LAST-MODIFIED:20260211T214251Z
UID:3668-1790510400-1790519400@tvsc.co.uk
SUMMARY:Macmillan Coffee Morning
DESCRIPTION:Macmillan Coffee Morning
URL:https://tvsc.co.uk/event/macmillan-coffee-morning/
LOCATION:TVSC
CATEGORIES:Charity Fund Raising
END:VEVENT
BEGIN:VEVENT
DTSTART;VALUE=DATE:20261003
DTEND;VALUE=DATE:20261004
DTSTAMP:20260423T004413
CREATED:20260105T181627Z
LAST-MODIFIED:20260105T181651Z
UID:3600-1790985600-1791071999@tvsc.co.uk
SUMMARY:SRA Singles Marathon (Sat pm)
DESCRIPTION: 
URL:https://tvsc.co.uk/event/sra-singles-marathon/
LOCATION:TVSC
CATEGORIES:Long Distance
END:VEVENT
BEGIN:VEVENT
DTSTART;VALUE=DATE:20261011
DTEND;VALUE=DATE:20261012
DTSTAMP:20260423T004413
CREATED:20260105T181747Z
LAST-MODIFIED:20260105T181747Z
UID:3603-1791676800-1791763199@tvsc.co.uk
SUMMARY:SRA Doubles Marathon
DESCRIPTION: 
URL:https://tvsc.co.uk/event/sra-doubles-marathon/
LOCATION:TVSC
CATEGORIES:Long Distance
END:VEVENT
BEGIN:VEVENT
DTSTART;TZID=Europe/London:20261018T123000
DTEND;TZID=Europe/London:20261018T143000
DTSTAMP:20260423T004413
CREATED:20260211T214529Z
LAST-MODIFIED:20260211T214529Z
UID:3670-1792326600-1792333800@tvsc.co.uk
SUMMARY:Learn to Row Welcome
DESCRIPTION:Learn to Row Welcome Party
URL:https://tvsc.co.uk/event/learn-to-row-welcome/
LOCATION:TVSC
CATEGORIES:Social
END:VEVENT
BEGIN:VEVENT
DTSTART;TZID=Europe/London:20261024T190000
DTEND;TZID=Europe/London:20261024T230000
DTSTAMP:20260423T004413
CREATED:20260211T214756Z
LAST-MODIFIED:20260211T214756Z
UID:3672-1792868400-1792882800@tvsc.co.uk
SUMMARY:Crews' Supper
DESCRIPTION:Crews’ Supper – a celebration of racing this year.
URL:https://tvsc.co.uk/event/crews-supper/
LOCATION:TVSC
CATEGORIES:Social
END:VEVENT
BEGIN:VEVENT
DTSTART;TZID=Europe/London:20261114T190000
DTEND;TZID=Europe/London:20261114T230000
DTSTAMP:20260423T004413
CREATED:20260211T215032Z
LAST-MODIFIED:20260226T170002Z
UID:3674-1794682800-1794697200@tvsc.co.uk
SUMMARY:Through the Lens
DESCRIPTION:Club Photography Awards
URL:https://tvsc.co.uk/event/through-the-lens/
LOCATION:TVSC
CATEGORIES:Social
END:VEVENT
BEGIN:VEVENT
DTSTART;TZID=Europe/London:20261212T190000
DTEND;TZID=Europe/London:20261212T230000
DTSTAMP:20260423T004413
CREATED:20260211T215532Z
LAST-MODIFIED:20260211T215532Z
UID:3676-1797102000-1797116400@tvsc.co.uk
SUMMARY:Punting Supper
DESCRIPTION:Punting Supper – if you’ve entered a punt race in 2026\, this is for you!
URL:https://tvsc.co.uk/event/punting-supper/
LOCATION:TVSC
CATEGORIES:Social
END:VEVENT
BEGIN:VEVENT
DTSTART;TZID=Europe/London:20261220T123000
DTEND;TZID=Europe/London:20261220T150000
DTSTAMP:20260423T004413
CREATED:20260211T215704Z
LAST-MODIFIED:20260211T215704Z
UID:3680-1797769800-1797778800@tvsc.co.uk
SUMMARY:Christmas Draw
DESCRIPTION:Christmas Draw
URL:https://tvsc.co.uk/event/christmas-draw/
LOCATION:TVSC
CATEGORIES:Social
END:VEVENT
BEGIN:VEVENT
DTSTART;TZID=Europe/London:20261231T190000
DTEND;TZID=Europe/London:20261231T233000
DTSTAMP:20260423T004413
CREATED:20260211T215830Z
LAST-MODIFIED:20260211T215830Z
UID:3682-1798743600-1798759800@tvsc.co.uk
SUMMARY:New Year's Eve Gala
DESCRIPTION:New Year’s Eve Gala
URL:https://tvsc.co.uk/event/new-years-eve-gala/
LOCATION:TVSC
CATEGORIES:Social
END:VEVENT
END:VCALENDAR