BEGIN:VCALENDAR
VERSION:2.0
PRODID:-//Thames Valley Skiff Club - ECPv6.15.18//NONSGML v1.0//EN
CALSCALE:GREGORIAN
METHOD:PUBLISH
X-WR-CALNAME:Thames Valley Skiff Club
X-ORIGINAL-URL:https://tvsc.co.uk
X-WR-CALDESC:Events for Thames Valley Skiff Club
REFRESH-INTERVAL;VALUE=DURATION:PT1H
X-Robots-Tag:noindex
X-PUBLISHED-TTL:PT1H
BEGIN:VTIMEZONE
TZID:Europe/London
BEGIN:DAYLIGHT
TZOFFSETFROM:+0000
TZOFFSETTO:+0100
TZNAME:BST
DTSTART:20250330T010000
END:DAYLIGHT
BEGIN:STANDARD
TZOFFSETFROM:+0100
TZOFFSETTO:+0000
TZNAME:GMT
DTSTART:20251026T010000
END:STANDARD
BEGIN:DAYLIGHT
TZOFFSETFROM:+0000
TZOFFSETTO:+0100
TZNAME:BST
DTSTART:20260329T010000
END:DAYLIGHT
BEGIN:STANDARD
TZOFFSETFROM:+0100
TZOFFSETTO:+0000
TZNAME:GMT
DTSTART:20261025T010000
END:STANDARD
BEGIN:DAYLIGHT
TZOFFSETFROM:+0000
TZOFFSETTO:+0100
TZNAME:BST
DTSTART:20270328T010000
END:DAYLIGHT
BEGIN:STANDARD
TZOFFSETFROM:+0100
TZOFFSETTO:+0000
TZNAME:GMT
DTSTART:20271031T010000
END:STANDARD
END:VTIMEZONE
BEGIN:VEVENT
DTSTART;TZID=Europe/London:20260320T063000
DTEND;TZID=Europe/London:20260320T223000
DTSTAMP:20260424T000056
CREATED:20260226T162558Z
LAST-MODIFIED:20260226T162558Z
UID:3705-1773988200-1774045800@tvsc.co.uk
SUMMARY:Film Night
DESCRIPTION: 
URL:https://tvsc.co.uk/event/film-night/
LOCATION:TVSC
CATEGORIES:Social - Film Night
END:VEVENT
BEGIN:VEVENT
DTSTART;VALUE=DATE:20260314
DTEND;VALUE=DATE:20260315
DTSTAMP:20260424T000056
CREATED:20260105T164056Z
LAST-MODIFIED:20260211T185307Z
UID:3525-1773446400-1773532799@tvsc.co.uk
SUMMARY:Dittons Winter Time Trial
DESCRIPTION:Dittons
URL:https://tvsc.co.uk/event/dittons-winter-time-trial/
LOCATION:DSPC\, Thames Ditton\, KT7 0QH
CATEGORIES:Long Distance
END:VEVENT
BEGIN:VEVENT
DTSTART;TZID=Europe/London:20260228T190000
DTEND;TZID=Europe/London:20260228T223000
DTSTAMP:20260424T000056
CREATED:20260211T190915Z
LAST-MODIFIED:20260211T213228Z
UID:3643-1772305200-1772317800@tvsc.co.uk
SUMMARY:Bingo Night
DESCRIPTION:Bingo Night\, with cash prizes! \nCorrection to tel number below: 07932 526 408\n \n  \n 
URL:https://tvsc.co.uk/event/bingo-night/
CATEGORIES:Social
END:VEVENT
BEGIN:VEVENT
DTSTART;TZID=Europe/London:20260220T183000
DTEND;TZID=Europe/London:20260220T223000
DTSTAMP:20260424T000056
CREATED:20260211T185923Z
LAST-MODIFIED:20260211T220035Z
UID:3641-1771612200-1771626600@tvsc.co.uk
SUMMARY:Film Night & Pancakes
DESCRIPTION:Film: The Life of Brian.
URL:https://tvsc.co.uk/event/film-night-pancakes/
LOCATION:TVSC
CATEGORIES:Social - Film Night
END:VEVENT
BEGIN:VEVENT
DTSTART;TZID=Europe/London:20260124T190000
DTEND;TZID=Europe/London:20260124T230000
DTSTAMP:20260424T000056
CREATED:20260112T161502Z
LAST-MODIFIED:20260112T161820Z
UID:3611-1769281200-1769295600@tvsc.co.uk
SUMMARY:Sausage Fest
DESCRIPTION: 
URL:https://tvsc.co.uk/event/sausage-fest/
LOCATION:TVSC
CATEGORIES:Social
END:VEVENT
BEGIN:VEVENT
DTSTART;TZID=Europe/London:20260123T183000
DTEND;TZID=Europe/London:20260123T220000
DTSTAMP:20260424T000056
CREATED:20260110T181250Z
LAST-MODIFIED:20260110T182703Z
UID:3608-1769193000-1769205600@tvsc.co.uk
SUMMARY:Film Night: Butch Cassidy & the Sundance Kid
DESCRIPTION:Film Night
URL:https://tvsc.co.uk/event/film-night-butch-cassidy-the-sundance-kid/
CATEGORIES:Social - Film Night
END:VEVENT
END:VCALENDAR